Package: cliProfiler Version: 1.12.0 Command: F:\biocbuild\bbs-3.20-bioc\R\bin\R.exe CMD check --no-multiarch --install=check:cliProfiler.install-out.txt --library=F:\biocbuild\bbs-3.20-bioc\R\library --no-vignettes --timings cliProfiler_1.12.0.tar.gz StartedAt: 2025-01-31 00:34:05 -0500 (Fri, 31 Jan 2025) EndedAt: 2025-01-31 00:38:54 -0500 (Fri, 31 Jan 2025) EllapsedTime: 289.1 seconds RetCode: 0 Status: OK CheckDir: cliProfiler.Rcheck Warnings: 0