Package: cliProfiler Version: 1.12.0 Command: rm -rf cliProfiler.buildbin-libdir && mkdir cliProfiler.buildbin-libdir && F:\biocbuild\bbs-3.20-bioc\R\bin\R.exe CMD INSTALL --build --library=cliProfiler.buildbin-libdir cliProfiler_1.12.0.tar.gz StartedAt: 2025-01-31 08:23:03 -0500 (Fri, 31 Jan 2025) EndedAt: 2025-01-31 08:23:48 -0500 (Fri, 31 Jan 2025) EllapsedTime: 44.4 seconds RetCode: 0 Status: OK PackageFile: cliProfiler_1.12.0.zip PackageFileSize: 692.2 KiB