Package: cliProfiler Version: 1.12.0 Command: /home/biocbuild/bbs-3.20-bioc/R/bin/R CMD INSTALL cliProfiler StartedAt: 2025-01-30 15:22:10 -0500 (Thu, 30 Jan 2025) EndedAt: 2025-01-30 15:22:46 -0500 (Thu, 30 Jan 2025) EllapsedTime: 35.2 seconds RetCode: 0 Status: OK