Package: cliProfiler Version: 1.12.0 Command: /home/biocbuild/bbs-3.20-bioc/R/bin/R CMD build --keep-empty-dirs --no-resave-data --md5 cliProfiler StartedAt: 2025-01-30 16:42:41 -0500 (Thu, 30 Jan 2025) EndedAt: 2025-01-30 16:43:53 -0500 (Thu, 30 Jan 2025) EllapsedTime: 72.1 seconds RetCode: 0 Status: OK PackageFile: cliProfiler_1.12.0.tar.gz PackageFileSize: 1.209 MiB