Package: cliProfiler Version: 1.12.0 Command: /Library/Frameworks/R.framework/Resources/bin/R CMD INSTALL cliProfiler StartedAt: 2025-01-30 16:02:48 -0500 (Thu, 30 Jan 2025) EndedAt: 2025-01-30 16:03:27 -0500 (Thu, 30 Jan 2025) EllapsedTime: 39.5 seconds RetCode: 0 Status: OK