Package: cleaver Version: 1.44.0 Command: chmod a+r cleaver -R && F:\biocbuild\bbs-3.20-bioc\R\bin\R.exe CMD build --keep-empty-dirs --no-resave-data cleaver StartedAt: 2025-01-30 17:57:49 -0500 (Thu, 30 Jan 2025) EndedAt: 2025-01-30 17:58:19 -0500 (Thu, 30 Jan 2025) EllapsedTime: 30.0 seconds RetCode: 0 Status: OK PackageFile: cleaver_1.44.0.tar.gz PackageFileSize: 320.5 KiB