Package: circRNAprofiler Version: 1.20.0 Command: F:\biocbuild\bbs-3.20-bioc\R\bin\R.exe CMD check --no-multiarch --install=check:circRNAprofiler.install-out.txt --library=F:\biocbuild\bbs-3.20-bioc\R\library --no-vignettes --timings circRNAprofiler_1.20.0.tar.gz StartedAt: 2025-01-31 00:31:06 -0500 (Fri, 31 Jan 2025) EndedAt: 2025-01-31 00:47:05 -0500 (Fri, 31 Jan 2025) EllapsedTime: 959.6 seconds RetCode: 0 Status: OK CheckDir: circRNAprofiler.Rcheck Warnings: 0