Package: circRNAprofiler Version: 1.20.0 Command: /home/biocbuild/bbs-3.20-bioc/R/bin/R CMD build --keep-empty-dirs --no-resave-data --md5 circRNAprofiler StartedAt: 2025-01-30 16:41:16 -0500 (Thu, 30 Jan 2025) EndedAt: 2025-01-30 16:42:41 -0500 (Thu, 30 Jan 2025) EllapsedTime: 85.1 seconds RetCode: 0 Status: OK PackageFile: circRNAprofiler_1.20.0.tar.gz PackageFileSize: 3.647 MiB