Package: circRNAprofiler Version: 1.20.0 Command: /Library/Frameworks/R.framework/Resources/bin/R CMD build --keep-empty-dirs --no-resave-data circRNAprofiler StartedAt: 2025-01-30 17:57:00 -0500 (Thu, 30 Jan 2025) EndedAt: 2025-01-30 18:00:10 -0500 (Thu, 30 Jan 2025) EllapsedTime: 190.2 seconds RetCode: 0 Status: OK PackageFile: circRNAprofiler_1.20.0.tar.gz PackageFileSize: 3.715 MiB