Package: cicero Version: 1.24.0 Command: /home/biocbuild/bbs-3.20-bioc/R/bin/R CMD build --keep-empty-dirs --no-resave-data --md5 cicero StartedAt: 2025-01-30 16:41:05 -0500 (Thu, 30 Jan 2025) EndedAt: 2025-01-30 16:43:05 -0500 (Thu, 30 Jan 2025) EllapsedTime: 120.1 seconds RetCode: 0 Status: OK PackageFile: cicero_1.24.0.tar.gz PackageFileSize: 1.186 MiB