Package: chromstaR Version: 1.32.0 Command: F:\biocbuild\bbs-3.20-bioc\R\bin\R.exe CMD check --no-multiarch --install=check:chromstaR.install-out.txt --library=F:\biocbuild\bbs-3.20-bioc\R\library --no-vignettes --timings chromstaR_1.32.0.tar.gz StartedAt: 2025-01-31 00:29:09 -0500 (Fri, 31 Jan 2025) EndedAt: 2025-01-31 00:37:05 -0500 (Fri, 31 Jan 2025) EllapsedTime: 476.1 seconds RetCode: 0 Status: OK CheckDir: chromstaR.Rcheck Warnings: 0