Package: chromstaR Version: 1.32.0 Command: chmod a+r chromstaR -R && F:\biocbuild\bbs-3.20-bioc\R\bin\R.exe CMD build --keep-empty-dirs --no-resave-data chromstaR StartedAt: 2025-01-30 17:55:34 -0500 (Thu, 30 Jan 2025) EndedAt: 2025-01-30 18:02:06 -0500 (Thu, 30 Jan 2025) EllapsedTime: 392.3 seconds RetCode: 0 Status: OK PackageFile: chromstaR_1.32.0.tar.gz PackageFileSize: 6.767 MiB