Package: chromstaR Version: 1.32.0 Command: /home/biocbuild/bbs-3.20-bioc/R/bin/R CMD INSTALL chromstaR StartedAt: 2025-01-30 15:17:50 -0500 (Thu, 30 Jan 2025) EndedAt: 2025-01-30 15:18:27 -0500 (Thu, 30 Jan 2025) EllapsedTime: 36.4 seconds RetCode: 0 Status: OK