Package: chromstaR Version: 1.32.0 Command: /home/biocbuild/bbs-3.20-bioc/R/bin/R CMD check --install=check:chromstaR.install-out.txt --library=/home/biocbuild/bbs-3.20-bioc/R/site-library --timings chromstaR_1.32.0.tar.gz StartedAt: 2025-01-30 20:47:52 -0500 (Thu, 30 Jan 2025) EndedAt: 2025-01-30 20:58:22 -0500 (Thu, 30 Jan 2025) EllapsedTime: 629.7 seconds RetCode: 0 Status: OK CheckDir: chromstaR.Rcheck Warnings: 0