Package: chromDraw Version: 2.36.0 Command: /home/biocbuild/R/R/bin/R CMD build --keep-empty-dirs --no-resave-data chromDraw StartedAt: 2025-01-30 22:36:05 -0000 (Thu, 30 Jan 2025) EndedAt: 2025-01-30 22:37:23 -0000 (Thu, 30 Jan 2025) EllapsedTime: 78.0 seconds RetCode: 0 Status: OK PackageFile: chromDraw_2.36.0.tar.gz PackageFileSize: 2.221 MiB