Package: chihaya Version: 1.6.0 Command: chmod a+r chihaya -R && F:\biocbuild\bbs-3.20-bioc\R\bin\R.exe CMD build --keep-empty-dirs --no-resave-data chihaya StartedAt: 2025-01-30 17:52:48 -0500 (Thu, 30 Jan 2025) EndedAt: 2025-01-30 17:53:56 -0500 (Thu, 30 Jan 2025) EllapsedTime: 67.5 seconds RetCode: 0 Status: OK PackageFile: chihaya_1.6.0.tar.gz PackageFileSize: 258.3 KiB