Package: chihaya Version: 1.6.0 Command: rm -rf chihaya.buildbin-libdir && mkdir chihaya.buildbin-libdir && F:\biocbuild\bbs-3.20-bioc\R\bin\R.exe CMD INSTALL --build --library=chihaya.buildbin-libdir chihaya_1.6.0.tar.gz StartedAt: 2025-01-31 08:20:55 -0500 (Fri, 31 Jan 2025) EndedAt: 2025-01-31 08:23:24 -0500 (Fri, 31 Jan 2025) EllapsedTime: 149.3 seconds RetCode: 0 Status: OK PackageFile: chihaya_1.6.0.zip PackageFileSize: 1.899 MiB