Package: chihaya Version: 1.6.0 Command: /Library/Frameworks/R.framework/Resources/bin/R CMD check --install=check:chihaya.install-out.txt --library=/Library/Frameworks/R.framework/Resources/library --no-vignettes --timings chihaya_1.6.0.tar.gz StartedAt: 2025-01-31 01:30:38 -0500 (Fri, 31 Jan 2025) EndedAt: 2025-01-31 01:35:45 -0500 (Fri, 31 Jan 2025) EllapsedTime: 307.1 seconds RetCode: 0 Status: WARNINGS CheckDir: chihaya.Rcheck Warnings: 1