Package: chihaya Version: 1.6.0 Command: /Library/Frameworks/R.framework/Resources/bin/R CMD build --keep-empty-dirs --no-resave-data chihaya StartedAt: 2025-01-30 17:52:06 -0500 (Thu, 30 Jan 2025) EndedAt: 2025-01-30 17:53:55 -0500 (Thu, 30 Jan 2025) EllapsedTime: 108.4 seconds RetCode: 0 Status: OK PackageFile: chihaya_1.6.0.tar.gz PackageFileSize: 258.1 KiB