Package: cghMCR Version: 1.64.0 Command: chmod a+r cghMCR -R && F:\biocbuild\bbs-3.20-bioc\R\bin\R.exe CMD build --keep-empty-dirs --no-resave-data cghMCR StartedAt: 2025-01-30 17:51:47 -0500 (Thu, 30 Jan 2025) EndedAt: 2025-01-30 17:53:12 -0500 (Thu, 30 Jan 2025) EllapsedTime: 85.7 seconds RetCode: 0 Status: OK PackageFile: cghMCR_1.64.0.tar.gz PackageFileSize: 36.01 MiB