Package: cghMCR Version: 1.64.0 Command: /Library/Frameworks/R.framework/Resources/bin/R CMD INSTALL cghMCR StartedAt: 2025-01-30 16:25:55 -0500 (Thu, 30 Jan 2025) EndedAt: 2025-01-30 16:26:41 -0500 (Thu, 30 Jan 2025) EllapsedTime: 46.4 seconds RetCode: 0 Status: OK