Package: cghMCR Version: 1.64.0 Command: /Library/Frameworks/R.framework/Resources/bin/R CMD build --keep-empty-dirs --no-resave-data cghMCR StartedAt: 2025-01-30 20:32:35 -0500 (Thu, 30 Jan 2025) EndedAt: 2025-01-30 20:34:11 -0500 (Thu, 30 Jan 2025) EllapsedTime: 96.4 seconds RetCode: 0 Status: OK PackageFile: cghMCR_1.64.0.tar.gz PackageFileSize: 36.1 MiB