Package: cfDNAPro Version: 1.12.0 Command: /home/biocbuild/R/R/bin/R CMD INSTALL cfDNAPro StartedAt: 2025-01-30 20:48:07 -0000 (Thu, 30 Jan 2025) EndedAt: 2025-01-30 20:48:47 -0000 (Thu, 30 Jan 2025) EllapsedTime: 39.6 seconds RetCode: 0 Status: OK