Package: cfDNAPro Version: 1.12.0 Command: /home/biocbuild/R/R/bin/R CMD check --install=check:cfDNAPro.install-out.txt --library=/home/biocbuild/R/R/site-library --no-vignettes --timings cfDNAPro_1.12.0.tar.gz StartedAt: 2025-01-31 04:47:45 -0000 (Fri, 31 Jan 2025) EndedAt: 2025-01-31 04:52:31 -0000 (Fri, 31 Jan 2025) EllapsedTime: 286.3 seconds RetCode: 0 Status: WARNINGS CheckDir: cfDNAPro.Rcheck Warnings: 1