Package: ccrepe Version: 1.42.0 Command: /Library/Frameworks/R.framework/Resources/bin/R CMD check --install=check:ccrepe.install-out.txt --library=/Library/Frameworks/R.framework/Resources/library --no-vignettes --timings ccrepe_1.42.0.tar.gz StartedAt: 2025-01-31 13:41:43 -0500 (Fri, 31 Jan 2025) EndedAt: 2025-01-31 13:42:12 -0500 (Fri, 31 Jan 2025) EllapsedTime: 29.5 seconds RetCode: 0 Status: OK CheckDir: ccrepe.Rcheck Warnings: 0