Package: cbpManager Version: 1.14.0 Command: /Library/Frameworks/R.framework/Resources/bin/R CMD check --install=check:cbpManager.install-out.txt --library=/Library/Frameworks/R.framework/Resources/library --no-vignettes --timings cbpManager_1.14.0.tar.gz StartedAt: 2025-01-31 01:15:37 -0500 (Fri, 31 Jan 2025) EndedAt: 2025-01-31 01:18:01 -0500 (Fri, 31 Jan 2025) EllapsedTime: 143.9 seconds RetCode: 0 Status: WARNINGS CheckDir: cbpManager.Rcheck Warnings: 1