Package: cbpManager Version: 1.14.0 Command: /Library/Frameworks/R.framework/Resources/bin/R CMD build --keep-empty-dirs --no-resave-data cbpManager StartedAt: 2025-01-30 17:45:23 -0500 (Thu, 30 Jan 2025) EndedAt: 2025-01-30 17:45:57 -0500 (Thu, 30 Jan 2025) EllapsedTime: 33.2 seconds RetCode: 0 Status: OK PackageFile: cbpManager_1.14.0.tar.gz PackageFileSize: 4.639 MiB