Package: calm Version: 1.20.0 Command: /Library/Frameworks/R.framework/Resources/bin/R CMD build --keep-empty-dirs --no-resave-data calm StartedAt: 2025-01-30 17:40:45 -0500 (Thu, 30 Jan 2025) EndedAt: 2025-01-30 17:44:37 -0500 (Thu, 30 Jan 2025) EllapsedTime: 232.4 seconds RetCode: 0 Status: OK PackageFile: calm_1.20.0.tar.gz PackageFileSize: 397.3 KiB