Package: cageminer Version: 1.12.0 Command: /home/biocbuild/R/R/bin/R CMD build --keep-empty-dirs --no-resave-data cageminer StartedAt: 2025-01-30 22:18:23 -0000 (Thu, 30 Jan 2025) EndedAt: 2025-01-30 22:21:19 -0000 (Thu, 30 Jan 2025) EllapsedTime: 176.1 seconds RetCode: 0 Status: OK PackageFile: cageminer_1.12.0.tar.gz PackageFileSize: 904.7 KiB