Package: cageminer Version: 1.12.0 Command: F:\biocbuild\bbs-3.20-bioc\R\bin\R.exe CMD INSTALL cageminer StartedAt: 2025-01-30 16:50:09 -0500 (Thu, 30 Jan 2025) EndedAt: 2025-01-30 16:51:19 -0500 (Thu, 30 Jan 2025) EllapsedTime: 69.9 seconds RetCode: 0 Status: OK