Package: cageminer Version: 1.12.0 Command: /home/biocbuild/bbs-3.20-bioc/R/bin/R CMD build --keep-empty-dirs --no-resave-data --md5 cageminer StartedAt: 2025-01-30 16:32:13 -0500 (Thu, 30 Jan 2025) EndedAt: 2025-01-30 16:34:42 -0500 (Thu, 30 Jan 2025) EllapsedTime: 149.2 seconds RetCode: 0 Status: OK PackageFile: cageminer_1.12.0.tar.gz PackageFileSize: 1.291 MiB