Package: broadSeq Version: 1.0.0 Command: /Library/Frameworks/R.framework/Resources/bin/R CMD check --install=check:broadSeq.install-out.txt --library=/Library/Frameworks/R.framework/Resources/library --no-vignettes --timings broadSeq_1.0.0.tar.gz StartedAt: 2024-11-19 20:08:38 -0500 (Tue, 19 Nov 2024) EndedAt: 2024-11-19 20:16:03 -0500 (Tue, 19 Nov 2024) EllapsedTime: 444.4 seconds RetCode: 0 Status: OK CheckDir: broadSeq.Rcheck Warnings: 0