Package: broadSeq Version: 1.0.0 Command: rm -rf broadSeq.buildbin-libdir && mkdir broadSeq.buildbin-libdir && /Users/biocbuild/BBS/utils/build-universal.sh broadSeq_1.0.0.tar.gz /Library/Frameworks/R.framework/Resources/bin/R broadSeq.buildbin-libdir StartedAt: 2025-02-01 14:08:18 -0500 (Sat, 01 Feb 2025) EndedAt: 2025-02-01 14:09:06 -0500 (Sat, 01 Feb 2025) EllapsedTime: 47.8 seconds RetCode: 0 Status: OK PackageFile: broadSeq_1.0.0.tgz PackageFileSize: 4.038 MiB