Package: brendaDb Version: 1.20.0 Command: /home/biocbuild/R/R/bin/R CMD check --install=check:brendaDb.install-out.txt --library=/home/biocbuild/R/R/site-library --no-vignettes --timings brendaDb_1.20.0.tar.gz StartedAt: 2025-01-31 04:31:01 -0000 (Fri, 31 Jan 2025) EndedAt: 2025-01-31 04:32:18 -0000 (Fri, 31 Jan 2025) EllapsedTime: 77.1 seconds RetCode: 0 Status: OK CheckDir: brendaDb.Rcheck Warnings: 0