Package: brendaDb Version: 1.20.0 Command: chmod a+r brendaDb -R && F:\biocbuild\bbs-3.20-bioc\R\bin\R.exe CMD build --keep-empty-dirs --no-resave-data brendaDb StartedAt: 2025-01-30 17:40:49 -0500 (Thu, 30 Jan 2025) EndedAt: 2025-01-30 17:41:52 -0500 (Thu, 30 Jan 2025) EllapsedTime: 63.7 seconds RetCode: 0 Status: OK PackageFile: brendaDb_1.20.0.tar.gz PackageFileSize: 651.1 KiB