Package: brendaDb Version: 1.20.0 Command: /Library/Frameworks/R.framework/Resources/bin/R CMD check --install=check:brendaDb.install-out.txt --library=/Library/Frameworks/R.framework/Resources/library --no-vignettes --timings brendaDb_1.20.0.tar.gz StartedAt: 2025-01-31 01:01:29 -0500 (Fri, 31 Jan 2025) EndedAt: 2025-01-31 01:03:58 -0500 (Fri, 31 Jan 2025) EllapsedTime: 149.0 seconds RetCode: 0 Status: OK CheckDir: brendaDb.Rcheck Warnings: 0