Package: brendaDb Version: 1.20.0 Command: /Library/Frameworks/R.framework/Resources/bin/R CMD build --keep-empty-dirs --no-resave-data brendaDb StartedAt: 2025-01-30 17:37:18 -0500 (Thu, 30 Jan 2025) EndedAt: 2025-01-30 17:38:25 -0500 (Thu, 30 Jan 2025) EllapsedTime: 66.9 seconds RetCode: 0 Status: OK PackageFile: brendaDb_1.20.0.tar.gz PackageFileSize: 650.8 KiB