Package: blacksheepr Version: 1.20.0 Command: F:\biocbuild\bbs-3.20-bioc\R\bin\R.exe CMD check --no-multiarch --install=check:blacksheepr.install-out.txt --library=F:\biocbuild\bbs-3.20-bioc\R\library --no-vignettes --timings blacksheepr_1.20.0.tar.gz StartedAt: 2025-01-30 23:57:38 -0500 (Thu, 30 Jan 2025) EndedAt: 2025-01-31 00:02:28 -0500 (Fri, 31 Jan 2025) EllapsedTime: 289.3 seconds RetCode: 0 Status: OK CheckDir: blacksheepr.Rcheck Warnings: 0