Package: blacksheepr Version: 1.20.0 Command: rm -rf blacksheepr.buildbin-libdir && mkdir blacksheepr.buildbin-libdir && F:\biocbuild\bbs-3.20-bioc\R\bin\R.exe CMD INSTALL --build --library=blacksheepr.buildbin-libdir blacksheepr_1.20.0.tar.gz StartedAt: 2025-01-31 08:15:54 -0500 (Fri, 31 Jan 2025) EndedAt: 2025-01-31 08:16:31 -0500 (Fri, 31 Jan 2025) EllapsedTime: 36.8 seconds RetCode: 0 Status: OK PackageFile: blacksheepr_1.20.0.zip PackageFileSize: 4.037 MiB