Package: blacksheepr Version: 1.20.0 Command: /Library/Frameworks/R.framework/Resources/bin/R CMD build --keep-empty-dirs --no-resave-data blacksheepr StartedAt: 2025-01-30 19:52:14 -0500 (Thu, 30 Jan 2025) EndedAt: 2025-01-30 19:54:44 -0500 (Thu, 30 Jan 2025) EllapsedTime: 149.8 seconds RetCode: 0 Status: OK PackageFile: blacksheepr_1.20.0.tar.gz PackageFileSize: 4.227 MiB