Package: biscuiteer Version: 1.20.0 Command: /home/biocbuild/bbs-3.20-bioc/R/bin/R CMD check --install=check:biscuiteer.install-out.txt --library=/home/biocbuild/bbs-3.20-bioc/R/site-library --timings biscuiteer_1.20.0.tar.gz StartedAt: 2025-01-30 20:20:58 -0500 (Thu, 30 Jan 2025) EndedAt: 2025-01-30 20:29:57 -0500 (Thu, 30 Jan 2025) EllapsedTime: 539.2 seconds RetCode: 0 Status: WARNINGS CheckDir: biscuiteer.Rcheck Warnings: 1