Package: biscuiteer Version: 1.20.0 Command: /Library/Frameworks/R.framework/Resources/bin/R CMD INSTALL biscuiteer StartedAt: 2025-01-30 15:54:10 -0500 (Thu, 30 Jan 2025) EndedAt: 2025-01-30 15:56:34 -0500 (Thu, 30 Jan 2025) EllapsedTime: 144.1 seconds RetCode: 0 Status: OK