Package: biosigner Version: 1.34.0 Command: /home/biocbuild/R/R/bin/R CMD build --keep-empty-dirs --no-resave-data biosigner StartedAt: 2025-01-30 22:08:36 -0000 (Thu, 30 Jan 2025) EndedAt: 2025-01-30 22:12:10 -0000 (Thu, 30 Jan 2025) EllapsedTime: 214.1 seconds RetCode: 0 Status: OK PackageFile: biosigner_1.34.0.tar.gz PackageFileSize: 3.623 MiB