Package: biosigner Version: 1.34.0 Command: F:\biocbuild\bbs-3.20-bioc\R\bin\R.exe CMD INSTALL biosigner StartedAt: 2025-01-30 16:47:24 -0500 (Thu, 30 Jan 2025) EndedAt: 2025-01-30 16:48:00 -0500 (Thu, 30 Jan 2025) EllapsedTime: 36.2 seconds RetCode: 0 Status: OK