Package: biosigner Version: 1.34.0 Command: /Library/Frameworks/R.framework/Resources/bin/R CMD check --install=check:biosigner.install-out.txt --library=/Library/Frameworks/R.framework/Resources/library --no-vignettes --timings biosigner_1.34.0.tar.gz StartedAt: 2025-01-31 12:33:36 -0500 (Fri, 31 Jan 2025) EndedAt: 2025-01-31 12:39:10 -0500 (Fri, 31 Jan 2025) EllapsedTime: 333.4 seconds RetCode: 1 Status: ERROR CheckDir: biosigner.Rcheck Warnings: NA