Package: biomvRCNS Version: 1.46.0 Command: rm -rf biomvRCNS.buildbin-libdir && mkdir biomvRCNS.buildbin-libdir && /Users/biocbuild/BBS/utils/build-universal.sh biomvRCNS_1.46.0.tar.gz /Library/Frameworks/R.framework/Resources/bin/R biomvRCNS.buildbin-libdir StartedAt: 2025-02-01 14:05:10 -0500 (Sat, 01 Feb 2025) EndedAt: 2025-02-01 14:06:19 -0500 (Sat, 01 Feb 2025) EllapsedTime: 69.5 seconds RetCode: 0 Status: OK PackageFile: biomvRCNS_1.46.0.tgz PackageFileSize: 1.257 MiB