Package: biodbUniprot Version: 1.12.0 Command: /home/biocbuild/R/R/bin/R CMD INSTALL biodbUniprot StartedAt: 2025-01-30 20:54:55 -0000 (Thu, 30 Jan 2025) EndedAt: 2025-01-30 20:55:04 -0000 (Thu, 30 Jan 2025) EllapsedTime: 8.8 seconds RetCode: 0 Status: OK