Package: biodbUniprot Version: 1.12.0 Command: chmod a+r biodbUniprot -R && F:\biocbuild\bbs-3.20-bioc\R\bin\R.exe CMD build --keep-empty-dirs --no-resave-data biodbUniprot StartedAt: 2025-01-30 17:35:36 -0500 (Thu, 30 Jan 2025) EndedAt: 2025-01-30 17:37:18 -0500 (Thu, 30 Jan 2025) EllapsedTime: 101.3 seconds RetCode: 0 Status: OK PackageFile: biodbUniprot_1.12.0.tar.gz PackageFileSize: 410.8 KiB