Package: biodbUniprot Version: 1.12.0 Command: rm -rf biodbUniprot.buildbin-libdir && mkdir biodbUniprot.buildbin-libdir && /Users/biocbuild/BBS/utils/build-universal.sh biodbUniprot_1.12.0.tar.gz /Library/Frameworks/R.framework/Resources/bin/R biodbUniprot.buildbin-libdir StartedAt: 2025-02-01 14:04:44 -0500 (Sat, 01 Feb 2025) EndedAt: 2025-02-01 14:04:54 -0500 (Sat, 01 Feb 2025) EllapsedTime: 10.2 seconds RetCode: 0 Status: OK PackageFile: biodbUniprot_1.12.0.tgz PackageFileSize: 491.2 KiB