Package: biodbExpasy Version: 1.10.0 Command: /home/biocbuild/R/R/bin/R CMD INSTALL biodbExpasy StartedAt: 2025-01-30 20:48:55 -0000 (Thu, 30 Jan 2025) EndedAt: 2025-01-30 20:49:03 -0000 (Thu, 30 Jan 2025) EllapsedTime: 8.4 seconds RetCode: 0 Status: OK